BEGIN:VCALENDAR
VERSION:2.0
PRODID:icalendar-ruby
CALSCALE:GREGORIAN
METHOD:PUBLISH
BEGIN:VEVENT
DTSTAMP:20260422T141558Z
UID:5-1157850@elevatechristian.tithelysetup5.com
DTSTART:20260816T133000Z
DTEND:20260816T144500Z
CLASS:PUBLIC
CREATED:20260422T080217
DESCRIPTION:Join Us for Sunday Worship!Our services are held at 9:30 AM and
  11:00 AM\, with Elevate Kids programming available during the 11:00 AM se
 rvice. Come worship God with us through singing\, His Word\, and meaningfu
 l community — we can’t wait to see you!
LAST-MODIFIED:20260422T080217
LOCATION:Building B
SUMMARY:Sunday Worship
URL;VALUE=URI:https://www.elevatecc.com/events/sunday-worship/2026-08-16
END:VEVENT
END:VCALENDAR
